Workbook
Name Acciones_Categoría_3: '[1]Ponderaciones y parámetros'!$K$6:$N$6
Name Acciones_Categoría_3: '[2]Ponderaciones y parámetros'!$K$6:$N$6
Name Nombre: '[3]Tipología entidad'!$A$2:$A$1048576
Name Nombre: #REF!
Name Simulador: [1]Listas!$B$2:$B$4
Name Simulador: [2]Listas!$B$2:$B$4

Sheet Inicio
C3: AUTODIAGNÓSTICO DE GESTIÓN
C5: POLÍTICA SERVICIO AL CIUDADANO
D8: INSTRUCCIONES DE DILIGENCIAMIENTO
D11: AUTODIAGNÓSTICO
D14: PLAN DE ACCIÓN

Sheet Instrucciones
C3: AUTODIAGNÓSTICO DE GESTIÓN POLÍTICA DE SERVICIO AL CIUDADANO
C5: INSTRUCCIONES DE DILIGENCIAMIENTO
C7: Este archivo hace parte de un conjunto de herramientas de Autodiagnóstico que permitirán a cada entidad desarrollar un ejercicio de valoración del estado de cada una de las dimensiones en las cuales se estructura el Modelo Integrado de Gestión y Planeación, con el propósito de que la entidad logre contar con una línea base respecto a los aspectos que debe fortalecer, los cuales deben ser incluídos en su planeación institucional. Este puede ser utilizado en el momento en que lo considere pertinente, sin implicar esto reporte alguno a Función Pública, a otras instancias del Gobierno o a organismos de Control.
C12: A continuación, se explica en detalle como se debe diligenciar.
C15: Autodiagnóstico:
C17: Está compuesto por las siguientes columnas:
C19: - | D19: Componentes: son los grandes temas que enmarcan la política objeto de medición.
C20: - | D20: Calificación: puntaje automático obtenido como resultado de la autocalificación que haga en el avance de la política.
C21: - | D21: Categoría: corresponde a las acciones que la entidad debe contemplar para el avance de la respectiva política.
C22: - | D22: Calificación: puntaje automatico obtenido como resultado de la autocalificación que haga en el avance de la política.
C23: - | D23: Actividades de Gestión: son las actividades puntuales que la entidad debe estar implementando para considerar el avance en la implementación de la política.
C24: - | D24: Puntaje: es la casilla donde la entidad se autocalificará de acuerdo con las actividades descritas, en una escala de 0 a 100
C25: - | D25: Observaciones: en este espacio, podrá hacer las anotaciones o comentarios que considere pertinentes
C27: Las ÚNICAS celdas que debe diligenciar son la del nombre de la Entidad y la columna de Puntaje (resaltada en azúl). La de observaciones de manera opcional si lo considera necesario.
C29: Para la calificación, se estableció una escala de 5 niveles así:
C31: Puntaje | D31: Nivel | E31: Color
C32: 0 - 20 | D32: 1
C33: 21 - 40 | D33: 2
C34: 41 - 60 | D34: 3
C35: 61- 80 | D35: 4
C36: 81- 100 | D36: 5
C38: Cuando se ingresa un puntaje, esa columna automáticamente mostrará el color que corresponde según la escala anterior. Así mismo, la calificación de las categorías, de los componentes y la calificación total se generan automáticamente. Recuerde sólo ingresar puntajes de 0 a 100
C41: Los resultados finales solo reflejarán el resultado de los puntajes diligenciados. Si alguna casilla se deja en blanco, no contará para los resultados
C43: Si usted considera que alguna de las actividades no aplica para su Entidad por sus características particulares, no diligencie puntaje, y en la columna Observaciones escriba "No aplica". Por ejemplo, si en su entidad no se efectúan negociaciones colectivas por no haber sindicatos, en el ítem "Negociación Colectiva" usted no deberá ingresar ningún puntaje y deberá escribir en la columna Observaciones "No aplica"
C47: ES MUY IMPORTANTE que los puntajes ingresados sean lo más objetivos posible, y que exista un soporte para cada uno de ellos. El propósito principal es identificar oportunidades de mejora, para lo cual es fundamental ser objetivos en los puntajes ingresados.
C50: Cuando finalice de calificar las actividades de gestión, podrá ver de manera gráfica los principales resultados, haciendo click en el botón GRÁFICAS, o regresar al menú principal.
C53: Gráficas:
C55: En esta hoja se podrán visualizar de una manera más clara y sencilla los resultados obtenidos. Estas se generarán automáticamente una vez sea diligenciado el autodiagnóstico.
C57: En la primera gráfica, se muestra el puntaje total obtenido por la entidad, comparado con cada uno de los niveles de calificación. De esta manera podrá visualizar en que nivel se encuentra actualmente y cuantos le faltan para alcanzar el maximo puntaje.
C60: En la segunda gráfica se presentan las calificaciones obtenidas por cada uno de los componentes que integran la política. Igualmente se comparan con los 5 niveles establecidos.
C62: Y por último, se muestra la calificación por categorías. Dado que el número de categorías es muy grande, se dividieron en varias gráficas.
C65: En conjunto, estos resultados le permitirán identificar cuales son las categorías y componentes que presentan un mayor rezago, o cuya implementación está más retrasada, y así poder centrar su prioridad al momento de realizar el plan de implementación.
C69: Plan de Acción:
... C75: 1. Documentación y guías de referencia (color gris): contiene toda la información y documentos de consulta que pueden ser útiles y deben ser de conocimiento
C77: - | D77: Guías normas y técnicas
C78: - | D78: Buenas prácticas e innovación
C79: - | D79: Normatividad
C80: - | D80: Otros
C82: 2. Planeación y Ruta de acción (color naranja): la idea es generar un plan de acción con base en el diagnóstico realizado. Los elementos mínimos que se proponen para ello, son:
C84: - | D84: Diseñar alternativas de mejora
...

Sheet Autodiagnóstico
C3: AUTODIAGNÓSTICO DE SERVICIO AL CIUDADANO
C5: ENTIDAD | G5: CALIFICACIÓN TOTAL
G6: =IF(SUM(H10:H62)=0,"",AVERAGE(H10:H62)) -> 72.761905
C8: COMPONENTES | D8: CALIFICACIÓN | E8: CATEGORÍA | F8: CALIFICACIÓN | G8: ACTIVIDADES DE GESTIÓN | H8: PUNTAJE (0 - 100) | I8: OBSERVACIONES
C10: Servicio al Ciudadano | D10: =IF(SUM(H10:H62)=0,"",AVERAGE(H10:H62)) -> 72.761905 | E10: Caracterización usuarios y medición de percepción | F10: =IF(SUM(H10:H12)=0,"",AVERAGE(H10:H12)) -> 100 | G10: La entidad ha realizado caracterización de ciudadanos, usuarios o grupos de interés atendidos | H10: 100 | I10: https://www.unipamplona.edu.co/unipamplona/portalIG/home_13/recursos/direccionamiento_estrategico/atencion_ciudadano_transparenc/10052017/caracterizacion.jsp
G11: La entidad determina, recopila y analiza los datos sobre la percepción del cliente o usuario, con respecto a los productos o servicios ofrecidos y si estos cumplen sus expectativas. | H11: 100 | I11: https://www.unipamplona.edu.co/unipamplona/portalIG/home_1/recursos/atencion_ciudadano_transparenc/29092022/informes_pqrsd_informacion.jsp | L11: INICIO
G12: La entidad determina, recopila y analiza los datos sobre la percepción del cliente o usuario, con respecto a los trámites y procedimientos de cara al ciudadano. | H12: 100 | I12: https://www.unipamplona.edu.co/unipamplona/portalIG/home_1/recursos/atencion_ciudadano_transparenc/29092022/informes_pqrsd_informacion.jsp
E13: Formalidad de la dependencia o área | F13: =IF(SUM(H13:H16)=0,"",AVERAGE(H13:H16)) -> 75.25 | G13: La entidad cuenta con una dependencia o área formal encargada de recibir, tramitar y resolver las quejas, sugerencias y reclamos que los ciudadanos formulen. | H13: 100 | I13: Oficina de Atencion al Ciudadano y Transparencia
G14: La dependencia de Servicio al Ciudadano es la encargada de dar orientación sobre los trámites y servicios de la entidad. | H14: 100 | I14: si
G15: La política de Transparencia, Participación y Servicio al Ciudadano se incluye en el Plan Estratégico Sectorial y en el Plan Estratégico Institucional. | H15: 1 | I15: no | L15: GRÁFICAS
G16: En el Comité Institucional de Desarrollo Administrativo se incluyen temas relacionados con Servicio al Ciudadano. | H16: 100
E17: Procesos | F17: =IF(SUM(H17:H18)=0,"",AVERAGE(H17:H18)) -> 90 | G17: La entidad cuenta con procesos o procedimientos de servicio al ciudadano documentados e implementados (peticiones, quejas, reclamos y denuncias, trámites y servicios) | H17: 100
G18: La entidad aplica el procedimiento para las peticiones incompletas | H18: 80
E19: Atención incluyente y accesibilidad | F19: =IF(SUM(H19:H23)=0,"",AVERAGE(H19:H23)) -> 23.333333 | G19: La entidad efectúa ajustes razonables para garantizar la accesibilidad a los espacios físicos conforme a lo establecido en la NTC 6047 | H19: 0 | I19: planeación
G20: La entidad implementa acciones para garantizar una atención accesible, contemplando las necesidades de la población con discapacidades como: - Visual - Auditiva - Cognitiva - Mental - Sordoceguera - Múltiple - Física o motora | H20: 50 | I20: https://www.unipamplona.edu.co/unipamplona/portalIG/home_214/recursos/2017/27022017/area_desarrollo_humano.jsp
G21: La entidad incluyó dentro de su plan de desarrollo o plan institucional, acciones para garantizar el acceso real y efectivo de las personas con discapacidad a los servicios que ofrece | I21: planeacion
G22: La entidad cuenta con mecanismos de atención especial y preferente para infantes, personas en situación de discapacidad, embarazadas, niños, niñas, adolescentes, adulto mayor y veterano de la fuerza pública y en general de personas en estado de indefensión y o de debilidad manifiesta. | H22: 20 | I22: revisar planeacion
G23: La entidad incorpora en su presupuesto recursos destinados para garantizar el acceso real y efectivo de las personas con discapacidad a los servicios que ofrece | I23: planeacion
E24: Sistemas de información | F24: =IF(SUM(H24:H27)=0,"",AVERAGE(H24:H27)) -> 50.5 | G24: La entidad cuenta con un sistema de información para el registro ordenado y la gestión de peticiones, quejas, reclamos y denuncias | H24: 100
G25: El sistema de informacióon para el registro ordenado y la gestión de peticiones, quejas, reclamos y denuncias incorpora los siguientes criterios: - Existe un responsable(s) de la administración del Sistema - Permite adjuntar archivos y/o documentos - Brinda opciones para que el ciudadano pueda elegir el medio por el cual quiere recibir la respuesta - Permite la protección de los datos personales de los usuarios. - Permite la centralización de todas las peticiones, quejas, reclamos y denuncias, que ingresan por los diversos medios o canales - Cuenta con un enlace de ayuda en donde se detallen las características, requisitos y plazos de respuesta de cada tipo de solicitud. - Emite mensaje de confirmación del recibido por parte de la entidad - Emite mensaje de falla, propio del aplicativo, indicando el motivo de la misma y la opción con la que cuenta el peticionario - Permite hacer seguimiento al ciudadano del estado de la petición, queja, reclamo y denuncia - Permite monitorear la recepción y respuesta oportuna de peticiones, quejas, reclamos y denuncias. - Asigna único y consecutivo número de radicado e radicado de PQRS y otras comunicaciones oficiales, independiente del canal de ingreso (presencial, telefónico, correo electrónico, web, etc) | H25: 100
G26: La entidad habilitó consulta en línea de bases de datos con información relevante para el ciudadano | H26: 1
G27: La entidad organiza su información, trámites y servicios a través de ventanillas únicas virtuales | H27: 1
E28: Publicación de información | F28: =IF(SUM(H28:H31)=0,"",AVERAGE(H28:H31)) -> 87.5 | G28: La entidad publica la siguiente información en lugares visibles (diferentes al medio electrónico) y de fácil acceso al ciudadano: - Localización física de sede central y sucursales o regionales - Horarios de atención de sede central y sucursales o regionales - Teléfonos de contacto, líneas gratuitas y fax - Carta de trato digno - Listado de trámites y servicios - Responsable (dependencia o nombre o cargo) de la atención de peticiones, quejas, reclamos y/o denuncias - Correo electrónico de contacto de la Entidad - Noticias - Información relevante de la rendición de cuentas - Calendario de actividades | H28: 100
G29: La entidad publicó en su sitio web oficial, en la sección de transparencia y acceso a la información pública: - Mecanismos para la atención al ciudadano - Localización física, sucursales o regionales, horarios y días de atención al público - Derechos de los ciudadanos y medios para garantizarlos (Carta de trato digno) - Mecanismos para presentar quejas y reclamos en relación con omisiones o acciones de la Entidad - Informe de peticiones, quejas, reclamos, denuncias y solicitudes de acceso a la información | H29: 100
G30: El sitio web cuenta con información dirigida a diferentes grupos de población | H30: 50 | I30: prensa? Solo toma la poblacion auditiva con lengua de señas
G31: La entidad actualiza frecuentemente la información sobre la oferta Institucional en los diferentes canales de atención | H31: 100
E32: Canales de atención | F32: =IF(SUM(H32:H38)=0,"",AVERAGE(H32:H38)) -> 94 | G32: La entidad cuenta con los canales y/o espacios suficientes y adecuados para interactuar con ciudadanos, usuarios o grupos de interés. | H32: 70
G33: La entidad ha implementado protocolos de servicio en todos los canales dispuestos para la atención ciudadana | H33: 100
G34: La entidad garantiza atención por lo menos durante 40 horas a la semana | H34: 100
G35: La entidad tiene establecido un sistema de turnos acorde con las necesidades del servicio | H35: 100
G36: La entidad publica y mantiene actualizada la carta de trato digno al usuario, en la que se indiquen sus derechos y los medios dispuestos para garantizarlos. | H36: 100 | I36: HAY QUE ACTUALIZAR PARA ESTA VIGENCIA
G37: La entidad dispone de oficinas o ventanillas únicas en donde se realice la totalidad de la actuación administrativa que implique la presencia del peticionario
G38: La entidad dispone de oficinas o ventanillas únicas en donde se realice la totalidad de la actuación administrativa que implique la presencia del peticionario
E39: Protección de datos personales | F39: =IF(SUM(H39:H44)=0,"",AVERAGE(H39:H44)) | G39: La entidad cuenta con una política de tratamiento de datos personales, y tiene establecidos lineamientos para la protección y conservación de datos personales. | I39: CIADTI?
G40: La entidad divulga su política de tratamiento de datos personales mediante aviso de privacidad, en su página web y personalmente al titular en el momento de la recolección de los datos. | I40: revisar
G41: La entidad cuenta con la autorización del ciudadano para la recolección de los datos personales
G42: La entidad permite al titular de la información, conocer en cualquier momento la información que exista sobre él en sus bancos de datos.
G43: La entidad conserva la información bajo condiciones de seguridad para impedir su adulteración, pérdida, consulta, uso o acceso no autorizado o fraudulento. | I43: CIADTI?
G44: La entidad procede a la supresión de los datos personales una vez cumplida la finalidad del tratamiento de los mismos. | I44: ?
E45: Gestión de PQRSD | F45: =IF(SUM(H45:H55)=0,"",AVERAGE(H45:H55)) -> 80.2 | G45: La entidad definió y publicó un reglamento interno para la gestión de las peticiones y quejas recibidas | H45: 100 | I45: PROCEDIMIENTO ACTUALIZADO
...

Sheet Gráficas 
C3: RESULTADOS POLÍTICA SERVICIO AL CIUDADANO
C6: 1. Calificación total:
J11: Niveles | K11: Calificación
I12: =+Inicio!C5 -> POLÍTICA SERVICIO AL CIUDADANO | J12: 100 | K12: =+Autodiagnóstico!G6 -> 72.761905
C28: 2. Calificación por categorías:
J34: Categorías | K34: Niveles | L34: Calificación
J35: =+Autodiagnóstico!E10 -> Caracterización usuarios y medición de percepción | K35: 100 | L35: =+Autodiagnóstico!F10 -> 100
J36: =+Autodiagnóstico!E13 -> Formalidad de la dependencia o área | K36: 100 | L36: =+Autodiagnóstico!F13 -> 75.25
J37: =+Autodiagnóstico!E17 -> Procesos | K37: 100 | L37: =+Autodiagnóstico!F17 -> 90
J38: =+Autodiagnóstico!E19 -> Atención incluyente y accesibilidad | K38: 100 | L38: =+Autodiagnóstico!F19 -> 23.333333
J39: =+Autodiagnóstico!E24 -> Sistemas de información | K39: 100 | L39: =+Autodiagnóstico!F24 -> 50.5
J40: =+Autodiagnóstico!E28 -> Publicación de información | K40: 100 | L40: =+Autodiagnóstico!F28 -> 87.5
J41: =+Autodiagnóstico!E32 -> Canales de atención | K41: 100 | L41: =+Autodiagnóstico!F32 -> 94
J42: =+Autodiagnóstico!E39 -> Protección de datos personales | K42: 100 | L42: =+Autodiagnóstico!F39
J43: =+Autodiagnóstico!E45 -> Gestión de PQRSD | K43: 100 | L43: =+Autodiagnóstico!F45 -> 80.2
J44: =+Autodiagnóstico!E56 -> Gestión del talento humano | K44: 100 | L44: =+Autodiagnóstico!F56 -> 50.5
J45: =+Autodiagnóstico!E58 -> Control | K45: 100 | L45: =+Autodiagnóstico!F58 -> 90
J46: =+Autodiagnóstico!E60 -> Buenas prácticas | K46: 100 | L46: =+Autodiagnóstico!F60 -> 33.333333
K60: INICIO

Sheet Plan de Acción
C3: PLAN DE ACCIÓN SERVICIO AL CIUDADANO
C5: COMPONENTES | D5: CATEGORÍAS | E5: ACTIVIDADES DE GESTIÓN | F5: PUNTAJE | G5: GUÍAS Y NORMAS TÉCNICAS | H5: BUENAS PRÁCTICAS E INNOVACIÓN | I5: MARCO JURÍDICO | J5: OTRO | K5: DISEÑE ALTERNATIVAS DE MEJORA | L5: MEJORAS A IMPLEMENTAR (INCLUIR PLAZO DE LA IMPLEMENTACIÓN) | M5: EVALUACIÓN DE LA EFICACIA DE LAS ACCIONES IMPLEMENTADAS
C7: Servicio al Ciudadano | D7: Caracterización usuarios y medición de percepción | E7: La entidad ha realizado caracterización de ciudadanos, usuarios o grupos de interés atendidos | F7: =+Autodiagnóstico!H10 -> 100 | G7: Guía de caracterización de ciudadanos, usuarios y grupos de interés | I7: Decreto 124 de 2016 | K7: Realizar actualización de la caracterización institucional acorde a los lineamientos establecidos en la guia de caracterización de usuarios y grupos de interes | L7: 45412
E8: La entidad determina, recopila y analiza los datos sobre la percepción del cliente o usuario, con respecto a los productos o servicios ofrecidos y si estos cumplen sus expectativas. | F8: =+Autodiagnóstico!H11 -> 100 | G8: Lineamientos para mediciones de percepción ciudadana | I8: Ley 872 del 2003 | K8: Realizar seguimiento semestral | L8: 30/07/2024 30/12/2024
E9: La entidad determina, recopila y analiza los datos sobre la percepción del cliente o usuario, con respecto a los trámites y procedimientos de cara al ciudadano. | F9: =+Autodiagnóstico!H12 -> 100 | G9: Lineamientos para mediciones de percepción ciudadana | I9: Ley 872 del 2003 | K9: Realizar seguimiento semestral | L9: 30/07/2024 30/01/2025
D10: Formalidad de la dependencia o área | E10: La entidad cuenta con una dependencia o área formal encargada de recibir, tramitar y resolver las quejas, sugerencias y reclamos que los ciudadanos formulen. | F10: =+Autodiagnóstico!H13 -> 100 | G10: Funciones Generales Oficinas de Servicio al Ciudadano | I10: Ley 1474 de 2011
E11: La dependencia de Servicio al Ciudadano es la encargada de dar orientación sobre los trámites y servicios de la entidad. | F11: =+Autodiagnóstico!H14 -> 100 | G11: Funciones Generales Oficinas de Servicio al Ciudadano | I11: Ley 1474 de 2011
E12: La política de Transparencia, Participación y Servicio al Ciudadano se incluye en el Plan Estratégico Sectorial y en el Plan Estratégico Institucional. | F12: =+Autodiagnóstico!H15 -> 1 | G12: Estrategias para la construcción del plan anticorrupción y de atención al ciudadano | I12: Decreto 124 de 2016 | K12: Elaborar la politica, y realizar el trámite para su aprobación. | L12: 45442
E13: En el Comité Institucional de Desarrollo Administrativo se incluyen temas relacionados con Servicio al Ciudadano. | F13: =+Autodiagnóstico!H16 -> 100
D14: Procesos | E14: La entidad cuenta con procesos o procedimientos de servicio al ciudadano documentados e implementados (peticiones, quejas, reclamos y denuncias, trámites y servicios) | F14: =+Autodiagnóstico!H17 -> 100 | G14: Metodología para Optimización de Procesos y Procedimientos (ejemplo de dos procedimientos: Gestión de Peticiones y Gestión Documental)
E15: =+Autodiagnóstico!G18 -> La entidad aplica el procedimiento para las peticiones incompletas | F15: =+Autodiagnóstico!H18 -> 80 | K15: Actualizar el procedimiento incluyendo las peticiones incompletas | L15: 45381
D16: Atención incluyente y accesibilidad | E16: La entidad efectúa ajustes razonables para garantizar la accesibilidad a los espacios físicos conforme a lo establecido en la NTC 6047 | F16: =+Autodiagnóstico!H19 -> 0 | G16: NTC6047; Herramienta de autodiagnóstico de espacios físicos | I16: ley 1712 de 2016; ley 1618 de 2013; Decreto 103 de 2013
E17: La entidad implementa acciones para garantizar una atención accesible, contemplando las necesidades de la población con discapacidades como: - Visual - Auditiva - Cognitiva - Mental - Sordoceguera - Múltiple - Física o motora | F17: =+Autodiagnóstico!H20 -> 50 | G17: Directorio de soluciones para un servicio accesible e incluyente | I17: ley 1712 de 2016; ley 1618 de 2013; Decreto 103 de 2014 | K17: incluir tips en las capacitaciones y sensibilizacion a acerca de entrega de material a personas con discapacidad según lo requiera su necesidad. Desde la oficina de bienestar univesitario se garantiza la contratacion de personal idoneo, los cuales cumplen funciones orientadas para el bienestar de la poblacion con capacidades diversas, lo cuales brindan el servicio de, asesoria psicologica por parte de psicologos profesionales, asesorias academicas por parte de profesional pedagogico, interprete de lengua de señas colombiana, y/o acompañante sombra si se requiere, adicional a ello se brindan capacitaciones a la comunidad universitaria sobre inclusion y diversidad. | L17: 45991
E18: La entidad incluyó dentro de su plan de desarrollo o plan institucional, acciones para garantizar el acceso real y efectivo de las personas con discapacidad a los servicios que ofrece | F18: =+Autodiagnóstico!H21 -> 0 | G18: NTC6047; Herramienta de autodiagnóstico de espacios físicos; Directorio de soluciones para un servicio accesible e incluyente | I18: ley 1712 de 2016; ley 1618 de 2013; Decreto 103 de 2015
E19: La entidad cuenta con mecanismos de atención especial y preferente para infantes, personas en situación de discapacidad, embarazadas, niños, niñas, adolescentes, adulto mayor y veterano de la fuerza pública y en general de personas en estado de indefensión y o de debilidad manifiesta. | F19: =+Autodiagnóstico!H22 -> 20 | I19: Decreto 019 de 2012 Ley 1437 de 2011 | K19: revisar pqrs para incluir caracteristicas de accesibilidad web | L19: 45656
E20: La entidad incorpora en su presupuesto recursos destinados para garantizar el acceso real y efectivo de las personas con discapacidad a los servicios que ofrece | F20: =+Autodiagnóstico!H23 -> 0 | I20: ley 1712 de 2016; ley 1618 de 2013; Decreto 103 de 2017
D21: Sistemas de información | E21: La entidad cuenta con un sistema de información para el registro ordenado y la gestión de peticiones, quejas, reclamos y denuncias | F21: =+Autodiagnóstico!H24 -> 100 | I21: Ley 1437 de 2011
E22: El sistema de informacióon para el registro ordenado y la gestión de peticiones, quejas, reclamos y denuncias incorpora los siguientes criterios: - Existe un responsable(s) de la administración del Sistema - Permite adjuntar archivos y/o documentos - Brinda opciones para que el ciudadano pueda elegir el medio por el cual quiere recibir la respuesta - Permite la protección de los datos personales de los usuarios. - Permite la centralización de todas las peticiones, quejas, reclamos y denuncias, que ingresan por los diversos medios o canales - Cuenta con un enlace de ayuda en donde se detallen las características, requisitos y plazos de respuesta de cada tipo de solicitud. - Emite mensaje de confirmación del recibido por parte de la entidad - Emite mensaje de falla, propio del aplicativo, indicando el motivo de la misma y la opción con la que cuenta el peticionario - Permite hacer seguimiento al ciudadano del estado de la petición, queja, reclamo y denuncia - Permite monitorear la recepción y respuesta oportuna de peticiones, quejas, reclamos y denuncias. - Asigna único y consecutivo número de radicado e radicado de PQRS y otras comunicaciones oficiales, independiente del canal de ingreso (presencial, telefónico, correo electrónico, web, etc) | F22: =+Autodiagnóstico!H25 -> 100 | I22: Ley 1437 de 2011; Ley 1712 de 2014
E23: La entidad implementó sistemas de información / aplicativos interactivos para la consulta y gestión de la información, como mapas, gráficas, sistemas de georeferenciación u otros | F23: =+Autodiagnóstico!H26 -> 1 | I23: Ley 1712 de 2014
E24: La entidad habilitó consulta en línea de bases de datos con información relevante para el ciudadano | F24: =+Autodiagnóstico!H27 -> 1 | I24: Ley 1712 de 2015 | K24: revisar con el ciadti
D25: Publicación de información | E25: La entidad publica la siguiente información en lugares visibles (diferentes al medio electrónico) y de fácil acceso al ciudadano: - Localización física de sede central y sucursales o regionales - Horarios de atención de sede central y sucursales o regionales - Teléfonos de contacto, líneas gratuitas y fax - Carta de trato digno - Listado de trámites y servicios - Responsable (dependencia o nombre o cargo) de la atención de peticiones, quejas, reclamos y/o denuncias - Correo electrónico de contacto de la Entidad - Noticias - Información relevante de la rendición de cuentas - Calendario de actividades | F25: =+Autodiagnóstico!H28 -> 100 | I25: ley 1712 de 2016; Decreto 103 de 2013
E26: La entidad publicó en su sitio web oficial, en la sección de transparencia y acceso a la información pública: - Mecanismos para la atención al ciudadano - Localización física, sucursales o regionales, horarios y días de atención al público - Derechos de los ciudadanos y medios para garantizarlos (Carta de trato digno) - Mecanismos para presentar quejas y reclamos en relación con omisiones o acciones de la Entidad - Informe de peticiones, quejas, reclamos, denuncias y solicitudes de acceso a la información | F26: =+Autodiagnóstico!H29 -> 100 | I26: ley 1712 de 2016; Decreto 103 de 2014
E27: El sitio web cuenta con información dirigida a diferentes grupos de población | F27: =+Autodiagnóstico!H30 -> 50 | I27: ley 1712 de 2016; Decreto 103 de 2015 | K27: prensa y ciadti implementacion accesibilidad wrb}
E28: La entidad actualiza frecuentemente la información sobre la oferta Institucional en los diferentes canales de atención | F28: =+Autodiagnóstico!H31 -> 100 | I28: ley 1712 de 2016; Decreto 103 de 2016
D29: Canales de atención | E29: La entidad cuenta con los canales y/o espacios suficientes y adecuados para interactuar con ciudadanos, usuarios o grupos de interés. | F29: =+Autodiagnóstico!H32 -> 70 | I29: Ley 1437 de 2011 | K29: identificar y documentar los canales y espacios de atención a implementar de manera institucional | L29: 45473
E30: La entidad ha implementado protocolos de servicio en todos los canales dispuestos para la atención ciudadana | F30: =+Autodiagnóstico!H33 -> 100 | G30: Protocolos de servicio al ciudadano
E31: La entidad garantiza atención por lo menos durante 40 horas a la semana | F31: =+Autodiagnóstico!H34 -> 100 | I31: Ley 1437 de 2011
E32: La entidad tiene establecido un sistema de turnos acorde con las necesidades del servicio | F32: =+Autodiagnóstico!H35 -> 100 | I32: Ley 1437 de 2011
E33: La entidad publica y mantiene actualizada la carta de trato digno al usuario, en la que se indiquen sus derechos y los medios dispuestos para garantizarlos. | F33: =+Autodiagnóstico!H36 -> 100 | G33: Modelo de carta de trato digno (FONADE) | I33: Ley 1437 de 2011 | K33: actualizar la carta del trato digno | L33: 45381
D34: Protección de datos personales | E34: La entidad cuenta con una política de tratamiento de datos personales, y tiene establecidos lineamientos para la protección y conservación de datos personales. | F34: =+Autodiagnóstico!H39 -> 0 | G34: Modelo de política de protección de datos personales | I34: Ley 1266 de 2008; Ley 1581 de 2012; Decreto 1377 de 2013 | K34: elaborar, aprobar, e implemtar lapolitica de datos personales (ciadti)
E35: La entidad divulga su política de tratamiento de datos personales mediante aviso de privacidad, en su página web y personalmente al titular en el momento de la recolección de los datos. | F35: =+Autodiagnóstico!H40 -> 0 | G35: Modelo de política de protección de datos personales | I35: Ley 1266 de 2008; Ley 1581 de 2012; Decreto 1377 de 2014 | K35: elaborar, aprobar, e implemtar lapolitica de datos personales (ciadti)
E36: La entidad cuenta con la autorización del ciudadano para la recolección de los datos personales | F36: =+Autodiagnóstico!H41 -> 0 | I36: Ley 1266 de 2008; Ley 1581 de 2012; Decreto 1377 de 2015 | K36: elaborar, aprobar, e implemtar lapolitica de datos personales (ciadti)
E37: La entidad permite al titular de la información, conocer en cualquier momento la información que exista sobre él en sus bancos de datos. | F37: =+Autodiagnóstico!H42 -> 0 | I37: Ley 1266 de 2008; Ley 1581 de 2012; Decreto 1377 de 2016 | K37: elaborar, aprobar, e implemtar lapolitica de datos personales (ciadti)
E38: La entidad conserva la información bajo condiciones de seguridad para impedir su adulteración, pérdida, consulta, uso o acceso no autorizado o fraudulento. | F38: =+Autodiagnóstico!H43 -> 0 | I38: Ley 1266 de 2008; Ley 1581 de 2012; Decreto 1377 de 2017 | K38: elaborar, aprobar, e implemtar lapolitica de datos personales (ciadti)
E39: La entidad procede a la supresión de los datos personales una vez cumplida la finalidad del tratamiento de los mismos. | F39: =+Autodiagnóstico!H44 -> 0 | I39: Ley 1266 de 2008; Ley 1581 de 2012; Decreto 1377 de 2018 | K39: elaborar, aprobar, e implemtar lapolitica de datos personales (ciadti)
D40: Gestión de peticiones, quejas, reclamos, sugerencias y denuncias | E40: La entidad definió y publicó un reglamento interno para la gestión de las peticiones y quejas recibidas | F40: =+Autodiagnóstico!H45 -> 100 | G40: Flujograma de PQRS | I40: Ley 1755 de 2015
E41: La entidad informó a los ciudadanos los mecanismos a través de los cuales pueden hacer seguimiento a sus peticiones | F41: =+Autodiagnóstico!H46 -> 100
E42: La entidad cuenta con un formulario en su página Web para la recepción de peticiones, quejas, reclamos y denuncias | F42: =+Autodiagnóstico!H47 -> 100 | I42: Ley 1474 de 2011
E43: La entidad actualizó su reglamento de peticiones, quejas y reclamos, lineamientos para la atención y gestión de peticiones verbales en lenguas nativas, de acuerdo con el decreto 1166 de 2016. | F43: =+Autodiagnóstico!H48 -> 1 | I43: Decreto 1166 de 2016 | K43: Actualizar el reglamento acode al decreto 1166 de 2016 | L43: 45656
E44: La entidad cuenta con mecanismos para dar prioridad a las peticiones relacionadas con: - El reconocimiento de un derecho fundamental - Peticiones presentadas por menores de edad - Peticiones presentadas por periodistas | F44: =+Autodiagnóstico!H50 -> 100 | I44: Ley 1755 de 2015; Decreto 019 de 2012
...
